BEGIN:VCALENDAR
VERSION:2.0
PRODID:-//217.160.0.115//NONSGML kigkonsult.se iCalcreator 2.20//
CALSCALE:GREGORIAN
METHOD:PUBLISH
X-WR-TIMEZONE:Europe/London
BEGIN:VEVENT
UID:event2461@UKJive
DTSTAMP:20260422T101301Z
CATEGORIES:Freestyle
DESCRIPTION:NOTTS: ASCENSION Cotgrave Welfare\nCategory: Freestyle\nLink: h
 ttps://ukjive.co.uk/index.php?option=com_jem&view=event&id=2461:ceroc-nott
 s-ascension-freestyle-cotgrave-welfare\n
DTSTART;TZID=Europe/London:20260619T200000
DTEND;TZID=Europe/London:20260620T003000
LOCATION:The Cotgrave Community Club \,Woodview\,NG12 3PJ Cotgrave
SUMMARY:NOTTS: ASCENSION Cotgrave Welfare
URL:https://ukjive.co.uk/index.php?option=com_jem&view=event&id=2461:ceroc-
 notts-ascension-freestyle-cotgrave-welfare
END:VEVENT
END:VCALENDAR