BEGIN:VCALENDAR
VERSION:2.0
PRODID:-//217.160.0.115//NONSGML kigkonsult.se iCalcreator 2.20//
CALSCALE:GREGORIAN
METHOD:PUBLISH
X-WR-TIMEZONE:Europe/London
BEGIN:VEVENT
UID:event2476@UKJive
DTSTAMP:20260420T093508Z
CATEGORIES:Freestyle
DESCRIPTION:Jive Infusion Parklands Freestyle\nCategory: Freestyle\nLink: h
 ttps://ukjive.co.uk/index.php?option=com_jem&view=event&id=2476:jive-infus
 ion-parklands-freestyle\n
DTSTART;TZID=Europe/London:20260529T200000
DTEND;TZID=Europe/London:20260529T234500
LOCATION:Parklands\,Wheatley Hall Road\,DN2 4LT Doncaster
SUMMARY:Jive Infusion Parklands Freestyle
URL:https://ukjive.co.uk/index.php?option=com_jem&view=event&id=2476:jive-i
 nfusion-parklands-freestyle
END:VEVENT
END:VCALENDAR