BEGIN:VCALENDAR
VERSION:2.0
PRODID:-//217.160.0.115//NONSGML kigkonsult.se iCalcreator 2.20//
CALSCALE:GREGORIAN
METHOD:PUBLISH
X-WR-TIMEZONE:Europe/London
BEGIN:VEVENT
UID:event2510@UKJive
DTSTAMP:20260420T092408Z
CATEGORIES:Class
DESCRIPTION:Jive Infusion Wednesday Class Parklands\, Doncaster\nCategory: 
 Class\nLink: https://ukjive.co.uk/index.php?option=com_jem&view=event&id=2
 510:jive-infusion-wednesday-class-parklands\n
DTSTART;TZID=Europe/London:20260513T193000
DTEND;TZID=Europe/London:20260513T223000
LOCATION:Parklands\,Wheatley Hall Road\,DN2 4LT Doncaster
SUMMARY:Jive Infusion Wednesday Class Parklands\, Doncaster
URL:https://ukjive.co.uk/index.php?option=com_jem&view=event&id=2510:jive-i
 nfusion-wednesday-class-parklands
END:VEVENT
END:VCALENDAR