BEGIN:VCALENDAR
VERSION:2.0
PRODID:-//217.160.0.115//NONSGML kigkonsult.se iCalcreator 2.20//
CALSCALE:GREGORIAN
METHOD:PUBLISH
X-WR-TIMEZONE:Europe/London
BEGIN:VEVENT
UID:event2518@UKJive
DTSTAMP:20260420T093602Z
CATEGORIES:Class
DESCRIPTION:Jive Infusion Wednesday Class Parklands\, Doncaster\nCategory: 
 Class\nLink: https://ukjive.co.uk/index.php?option=com_jem&view=event&id=2
 518:jive-infusion-wednesday-class-parklands\n
DTSTART;TZID=Europe/London:20260708T193000
DTEND;TZID=Europe/London:20260708T223000
LOCATION:Parklands\,Wheatley Hall Road\,DN2 4LT Doncaster
SUMMARY:Jive Infusion Wednesday Class Parklands\, Doncaster
URL:https://ukjive.co.uk/index.php?option=com_jem&view=event&id=2518:jive-i
 nfusion-wednesday-class-parklands
END:VEVENT
END:VCALENDAR