BEGIN:VCALENDAR
VERSION:2.0
PRODID:-//217.160.0.115//NONSGML kigkonsult.se iCalcreator 2.20//
CALSCALE:GREGORIAN
METHOD:PUBLISH
X-WR-TIMEZONE:Europe/London
BEGIN:VEVENT
UID:event2890@UKJive
DTSTAMP:20260420T090906Z
CATEGORIES:Freestyle
DESCRIPTION:NOTTS GUIDE DOG Charity - Grange Hall \nCategory: Freestyle\nLi
 nk: https://ukjive.co.uk/index.php?option=com_jem&view=event&id=2890:notts
 -grange-hall\n
DTSTART;TZID=Europe/London:20260529T200000
DTEND;TZID=Europe/London:20260529T235900
LOCATION:Grange Hall Radcliffe on Trent\,Hunts Close\,NG12 2FD Nottingham
SUMMARY:NOTTS GUIDE DOG Charity - Grange Hall 
URL:https://ukjive.co.uk/index.php?option=com_jem&view=event&id=2890:notts-
 grange-hall
END:VEVENT
END:VCALENDAR